BEGIN:VCALENDAR
VERSION:2.0
PRODID:-//riversidenaturecenter.org//NONSGML kigkonsult.se iCalcreator 2.30
 .10//
CALSCALE:GREGORIAN
METHOD:PUBLISH
UID:42bfe1e0-8b10-4c0f-a1b6-3321da16ec45
X-WR-CALDESC:Let's kickoff the Great Backyard Bird Count with Brunch with t
 he Birds! Join us for bird walks\, bird talks\, crafts\, silent auction & 
 MORE! This is a Free Family Friendly event! Donations are greatly apprecia
 ted.
X-WR-RELCALID:def2f94bece2dfbe34fdd53298ee631d
X-WR-TIMEZONE:America/Chicago
BEGIN:VTIMEZONE
TZID:America/Chicago
BEGIN:STANDARD
TZNAME:CST
DTSTART:20241103T020000
TZOFFSETFROM:-0500
TZOFFSETTO:-0600
RDATE:20251102T020000
END:STANDARD
BEGIN:DAYLIGHT
TZNAME:CDT
DTSTART:20240310T020000
TZOFFSETFROM:-0600
TZOFFSETTO:-0500
RDATE:20250309T020000
RDATE:20260308T020000
END:DAYLIGHT
END:VTIMEZONE
BEGIN:VEVENT
UID:9fd4500e-f4fc-4d55-9e08-9236b62bf817
DTSTAMP:20260424T121007Z
DESCRIPTION:Let's kickoff the Great Backyard Bird Count with Brunch with th
 e Birds! Join us for bird walks\, bird talks\, crafts\, silent auction & M
 ORE! This is a Free Family Friendly event! Donations are greatly appreciat
 ed.
DTSTART;TZID=America/Chicago:20250215T100000
DTEND;TZID=America/Chicago:20250215T120000
LOCATION:150 Francisco Lemos St S\, Kerrville\, TX 78028 US
SUMMARY:Brunch with the Birds
END:VEVENT
END:VCALENDAR
