BEGIN:VCALENDAR
VERSION:2.0
PRODID:-//riversidenaturecenter.org//NONSGML kigkonsult.se iCalcreator 2.30
 .10//
CALSCALE:GREGORIAN
METHOD:PUBLISH
UID:2dd18922-da41-4ce1-8dc0-680069758ee8
X-WR-CALDESC:Is your child eager to explore more of the world around them? 
 Have them join the Riverside Rangers!\nWhere your junior naturalist can in
 vestigate nature through both scientific and artistic avenues.\n\n4th Satu
 rday of the Month\nAges 9-12 \n\nJune 28: Wild Life! (A look at local mamm
 als and wildlife biology)\n\n
X-WR-RELCALID:b98f62ce9aef433bc56b6a2063aa21de
X-WR-TIMEZONE:America/Chicago
BEGIN:VTIMEZONE
TZID:America/Chicago
BEGIN:STANDARD
TZNAME:CST
DTSTART:20241103T020000
TZOFFSETFROM:-0500
TZOFFSETTO:-0600
RDATE:20251102T020000
RDATE:20261101T020000
END:STANDARD
BEGIN:DAYLIGHT
TZNAME:CDT
DTSTART:20250309T020000
TZOFFSETFROM:-0600
TZOFFSETTO:-0500
RDATE:20260308T020000
END:DAYLIGHT
END:VTIMEZONE
BEGIN:VEVENT
UID:6af1c0b3-bc81-4fc7-a1c2-2355f4e7830f
DTSTAMP:20260422T103632Z
DESCRIPTION:Is your child eager to explore more of the world around them? H
 ave them join the Riverside Rangers!\nWhere your junior naturalist can inv
 estigate nature through both scientific and artistic avenues.\n\n4th Satur
 day of the Month\nAges 9-12 \n\nJune 28: Wild Life! (A look at local mamma
 ls and wildlife biology)\n\n
DTSTART;TZID=America/Chicago:20250628T100000
DTEND;TZID=America/Chicago:20250628T120000
LOCATION:150 Francisco Lemos St S\, Kerrville\, TX 78028 US
SUMMARY:Riverside Rangers
END:VEVENT
END:VCALENDAR
