BEGIN:VCALENDAR
VERSION:2.0
PRODID:-//riversidenaturecenter.org//NONSGML kigkonsult.se iCalcreator 2.30
 .10//
CALSCALE:GREGORIAN
METHOD:PUBLISH
UID:5a1f0f28-de4f-41c8-a11b-1f22d8d21f8c
X-WR-CALDESC:Join us in a morning of garden management and native plant dis
 covery.
X-WR-RELCALID:035d8c9bfa274d4c14b2062ea913d9f8
X-WR-TIMEZONE:America/Chicago
BEGIN:VTIMEZONE
TZID:America/Chicago
BEGIN:STANDARD
TZNAME:CST
DTSTART:20241103T020000
TZOFFSETFROM:-0500
TZOFFSETTO:-0600
RDATE:20251102T020000
RDATE:20261101T020000
END:STANDARD
BEGIN:DAYLIGHT
TZNAME:CDT
DTSTART:20250309T020000
TZOFFSETFROM:-0600
TZOFFSETTO:-0500
RDATE:20260308T020000
RDATE:20270314T020000
END:DAYLIGHT
END:VTIMEZONE
BEGIN:VEVENT
UID:6eaf0f3e-f11f-41a9-8b57-955329795dd2
DTSTAMP:20260421T082130Z
DESCRIPTION:Join us in a morning of garden management and native plant disc
 overy.
DTSTART;TZID=America/Chicago:20251009T090000
DTEND;TZID=America/Chicago:20251009T103000
LOCATION:150 Francisco Lemos St\, Kerrville\, TX 78028 US
SUMMARY:Meadow/Pollinator Garden Work Day
END:VEVENT
END:VCALENDAR
