BEGIN:VCALENDAR
VERSION:2.0
PRODID:-//riversidenaturecenter.org//NONSGML kigkonsult.se iCalcreator 2.30
 .10//
CALSCALE:GREGORIAN
METHOD:PUBLISH
UID:e729cc68-e4f8-4513-a60f-9e31bef662c9
X-WR-CALDESC:RNC and Kerr County Friends of the Night Sky will co host an e
 vening of sky gazing. Join Jeff Stone in a short presentation while enjoyi
 ng a few light snacks before exploring the night skies at sunset.
X-WR-RELCALID:4d69b642874fb95c6986fafa865db8ec
X-WR-TIMEZONE:America/Chicago
BEGIN:VTIMEZONE
TZID:America/Chicago
BEGIN:STANDARD
TZNAME:CST
DTSTART:20241103T020000
TZOFFSETFROM:-0500
TZOFFSETTO:-0600
RDATE:20251102T020000
RDATE:20261101T020000
END:STANDARD
BEGIN:DAYLIGHT
TZNAME:CDT
DTSTART:20250309T020000
TZOFFSETFROM:-0600
TZOFFSETTO:-0500
RDATE:20260308T020000
RDATE:20270314T020000
END:DAYLIGHT
END:VTIMEZONE
BEGIN:VEVENT
UID:75499306-d50a-4c4e-843c-2f2a78b19a8f
DTSTAMP:20260421T082505Z
DESCRIPTION:RNC and Kerr County Friends of the Night Sky will co host an ev
 ening of sky gazing. Join Jeff Stone in a short presentation while enjoyin
 g a few light snacks before exploring the night skies at sunset.
DTSTART;TZID=America/Chicago:20251028T183000
DTEND;TZID=America/Chicago:20251028T200000
LOCATION:150 Francisco Lemos St S\, Kerrville\, TX 78028 US
SUMMARY:Celebrate the Night! Star Party
END:VEVENT
END:VCALENDAR
