BEGIN:VCALENDAR
VERSION:2.0
PRODID:-//riversidenaturecenter.org//NONSGML kigkonsult.se iCalcreator 2.30
 .10//
CALSCALE:GREGORIAN
METHOD:PUBLISH
UID:87cdfb65-3f50-400b-92c9-2dab66996d06
X-WR-CALDESC:A FREE preschool reading program that introduces the natural w
 orld through story & engaging hands-on activities and crafts.\n\nRegister:
  riversidenaturecenter.org or 830-257-4837 \n\nEducation Program Fee: Free
X-WR-RELCALID:3bb2ec4bc3dcb631afca3f323faba952
X-WR-TIMEZONE:America/Chicago
BEGIN:VTIMEZONE
TZID:America/Chicago
BEGIN:STANDARD
TZNAME:CST
DTSTART:20251102T020000
TZOFFSETFROM:-0500
TZOFFSETTO:-0600
RDATE:20261101T020000
END:STANDARD
BEGIN:DAYLIGHT
TZNAME:CDT
DTSTART:20260308T020000
TZOFFSETFROM:-0600
TZOFFSETTO:-0500
RDATE:20270314T020000
END:DAYLIGHT
END:VTIMEZONE
BEGIN:VEVENT
UID:a82c5000-b8ee-428f-8aaf-eb115c4ecdc1
DTSTAMP:20260420T103013Z
DESCRIPTION:A FREE preschool reading program that introduces the natural wo
 rld through story & engaging hands-on activities and crafts.\n\nRegister: 
 riversidenaturecenter.org or 830-257-4837 \n\nEducation Program Fee: Free
DTSTART;TZID=America/Chicago:20260416T103000
DTEND;TZID=America/Chicago:20260416T113000
LOCATION:150 Francisco Lemos \, Kerrville\, TX 78028 US
SUMMARY:Sprouts
END:VEVENT
END:VCALENDAR
