BEGIN:VCALENDAR
VERSION:2.0
PRODID:-//riversidenaturecenter.org//NONSGML kigkonsult.se iCalcreator 2.30
 .10//
CALSCALE:GREGORIAN
METHOD:PUBLISH
UID:2ab4d017-28e0-4a1d-8557-9a6b369927c9
X-WR-CALDESC:A FREE preschool reading program that introduces the natural w
 orld through story & engaging hands-on activities and crafts.\n\nRegister:
  riversidenaturecenter.org or 830-257-4837 \n\nEducation Program Fee: Free
X-WR-RELCALID:f4e683c9ae2bb81ebc11d8b98f439271
X-WR-TIMEZONE:America/Chicago
BEGIN:VTIMEZONE
TZID:America/Chicago
BEGIN:STANDARD
TZNAME:CST
DTSTART:20251102T020000
TZOFFSETFROM:-0500
TZOFFSETTO:-0600
RDATE:20261101T020000
END:STANDARD
BEGIN:DAYLIGHT
TZNAME:CDT
DTSTART:20260308T020000
TZOFFSETFROM:-0600
TZOFFSETTO:-0500
RDATE:20270314T020000
END:DAYLIGHT
END:VTIMEZONE
BEGIN:VEVENT
UID:7d3633ce-d83a-45ae-9438-563d3dda8167
DTSTAMP:20260419T152238Z
DESCRIPTION:A FREE preschool reading program that introduces the natural wo
 rld through story & engaging hands-on activities and crafts.\n\nRegister: 
 riversidenaturecenter.org or 830-257-4837 \n\nEducation Program Fee: Free
DTSTART;TZID=America/Chicago:20260423T103000
DTEND;TZID=America/Chicago:20260423T113000
LOCATION:150 Francisco Lemos \, Kerrville\, TX 78028 US
SUMMARY:Sprouts  [Cancelled]
END:VEVENT
END:VCALENDAR
