BEGIN:VCALENDAR
VERSION:2.0
PRODID:-//riversidenaturecenter.org//NONSGML kigkonsult.se iCalcreator 2.30
 .10//
CALSCALE:GREGORIAN
METHOD:PUBLISH
UID:98052061-c228-4f37-9e16-a61d7bc56541
X-WR-CALDESC:What’s blooming and what’s not & why? Becky Leal will point ou
 t the virtues of native plants.\n
X-WR-RELCALID:beb668c72285933be0120341261dde59
X-WR-TIMEZONE:America/Chicago
BEGIN:VTIMEZONE
TZID:America/Chicago
BEGIN:STANDARD
TZNAME:CST
DTSTART:20241103T020000
TZOFFSETFROM:-0500
TZOFFSETTO:-0600
RDATE:20251102T020000
END:STANDARD
BEGIN:DAYLIGHT
TZNAME:CDT
DTSTART:20250309T020000
TZOFFSETFROM:-0600
TZOFFSETTO:-0500
RDATE:20260308T020000
END:DAYLIGHT
END:VTIMEZONE
BEGIN:VEVENT
UID:38a613ca-a910-4b98-be42-b6939bc60ab7
DTSTAMP:20260425T184127Z
DESCRIPTION:What’s blooming and what’s not & why? Becky Leal will point out
  the virtues of native plants.\n
DTSTART;TZID=America/Chicago:20250412T090000
DTEND;TZID=America/Chicago:20250412T103000
LOCATION:150 Francisco Lemos St S\, Kerrville\, TX 78028 US
SUMMARY:Wildflower Walk & Talk
END:VEVENT
END:VCALENDAR
