BEGIN:VCALENDAR
VERSION:2.0
PRODID:-//riversidenaturecenter.org//NONSGML kigkonsult.se iCalcreator 2.30
 .10//
CALSCALE:GREGORIAN
METHOD:PUBLISH
UID:378243b3-aeb5-4269-8a16-1f4ddb6f35e1
X-WR-CALDESC:Our family summer series is back. We will kick it off with Joh
 nny Arredondo\, TPWD Biologist. Let’s explore our local fauna.
X-WR-RELCALID:66b7740fec8c8bc2b25c8d0ebe3ef0bd
X-WR-TIMEZONE:America/Chicago
BEGIN:VTIMEZONE
TZID:America/Chicago
BEGIN:STANDARD
TZNAME:CST
DTSTART:20241103T020000
TZOFFSETFROM:-0500
TZOFFSETTO:-0600
RDATE:20251102T020000
RDATE:20261101T020000
END:STANDARD
BEGIN:DAYLIGHT
TZNAME:CDT
DTSTART:20250309T020000
TZOFFSETFROM:-0600
TZOFFSETTO:-0500
RDATE:20260308T020000
END:DAYLIGHT
END:VTIMEZONE
BEGIN:VEVENT
UID:8e6cc07a-7942-45ee-a4c7-1cf7bb6c89be
DTSTAMP:20260420T090553Z
DESCRIPTION:Our family summer series is back. We will kick it off with John
 ny Arredondo\, TPWD Biologist. Let’s explore our local fauna.
DTSTART;TZID=America/Chicago:20250603T180000
DTEND;TZID=America/Chicago:20250603T190000
LOCATION:150 Francisco Lemos \, Kerrville\, TX 78028 US
SUMMARY:Nature Night: Cougars\, Deer & Coyotes Oh My!
END:VEVENT
END:VCALENDAR
