BEGIN:VCALENDAR
VERSION:2.0
PRODID:-//riversidenaturecenter.org//NONSGML kigkonsult.se iCalcreator 2.30
 .10//
CALSCALE:GREGORIAN
METHOD:PUBLISH
UID:0230f44c-d8e4-4456-bfe1-1f0c0e7e3040
X-WR-CALDESC:Join us for an evening of friendly competition. Nature themed 
 board games\, snacks &amp\; raffle chances. Come as a single or a team/fam
 ily.\n\nTicket price: $5.00/per person or $25/family up to 6.\n\nRSVP: Riv
 ersidenaturecenter.org or 830-257-4837
X-WR-RELCALID:aedd617ad02dee31eab505368490fcf8
X-WR-TIMEZONE:America/Chicago
BEGIN:VTIMEZONE
TZID:America/Chicago
BEGIN:STANDARD
TZNAME:CST
DTSTART:20251102T020000
TZOFFSETFROM:-0500
TZOFFSETTO:-0600
RDATE:20261101T020000
END:STANDARD
BEGIN:DAYLIGHT
TZNAME:CDT
DTSTART:20260308T020000
TZOFFSETFROM:-0600
TZOFFSETTO:-0500
RDATE:20270314T020000
END:DAYLIGHT
END:VTIMEZONE
BEGIN:VEVENT
UID:69c0a19b-3980-4c10-813e-ada6140f6b13
DTSTAMP:20260423T233741Z
DESCRIPTION:Join us for an evening of friendly competition. Nature themed b
 oard games\, snacks &amp\; raffle chances. Come as a single or a team/fami
 ly.\n\nTicket price: $5.00/per person or $25/family up to 6.\n\nRSVP: Rive
 rsidenaturecenter.org or 830-257-4837
DTSTART;TZID=America/Chicago:20260317T180000
DTEND;TZID=America/Chicago:20260317T200000
LOCATION:150 Francisco Lemos St S\, Kerrville\, TX 78028 US
SUMMARY:Family Game Night!
END:VEVENT
END:VCALENDAR
