BEGIN:VCALENDAR
VERSION:2.0
PRODID:-//riversidenaturecenter.org//NONSGML kigkonsult.se iCalcreator 2.30
 .10//
CALSCALE:GREGORIAN
METHOD:PUBLISH
UID:3d03d47a-a6c5-4497-b46f-4d7884414be2
X-WR-CALDESC:Join us in a morning of garden management and native plant dis
 covery.
X-WR-RELCALID:bd8b466ac530deca4c94ede505429539
X-WR-TIMEZONE:America/Chicago
BEGIN:VTIMEZONE
TZID:America/Chicago
BEGIN:STANDARD
TZNAME:CST
DTSTART:20251102T020000
TZOFFSETFROM:-0500
TZOFFSETTO:-0600
RDATE:20261101T020000
END:STANDARD
BEGIN:DAYLIGHT
TZNAME:CDT
DTSTART:20260308T020000
TZOFFSETFROM:-0600
TZOFFSETTO:-0500
RDATE:20270314T020000
END:DAYLIGHT
END:VTIMEZONE
BEGIN:VEVENT
UID:e54bd5a2-19b1-4b46-96b1-bfa7bd06ac0f
DTSTAMP:20260422T104042Z
DESCRIPTION:Join us in a morning of garden management and native plant disc
 overy.
DTSTART;TZID=America/Chicago:20260402T090000
DTEND;TZID=America/Chicago:20260402T103000
LOCATION:150 Francisco Lemos St\, Kerrville\, TX 78028 US
SUMMARY:Meadow/Pollinator Garden Work Day
END:VEVENT
END:VCALENDAR
