BEGIN:VCALENDAR
VERSION:2.0
PRODID:-//riversidenaturecenter.org//NONSGML kigkonsult.se iCalcreator 2.30
 .10//
CALSCALE:GREGORIAN
METHOD:PUBLISH
UID:391407b7-5406-4b57-a62f-58a105b8e643
X-WR-CALDESC:The Kerr County Love Project is led by art therapists who beli
 eve in the power of creativity to heal\, connect\, and celebrate community
 . Together\, we’re building a large mosaic that reflects the joy\, resilie
 nce\, and spirit of Kerr County.
X-WR-RELCALID:17e9c8854e3a3104d62a5b6bff8c88d9
X-WR-TIMEZONE:America/Chicago
BEGIN:VTIMEZONE
TZID:America/Chicago
BEGIN:STANDARD
TZNAME:CST
DTSTART:20251102T020000
TZOFFSETFROM:-0500
TZOFFSETTO:-0600
RDATE:20261101T020000
END:STANDARD
BEGIN:DAYLIGHT
TZNAME:CDT
DTSTART:20260308T020000
TZOFFSETFROM:-0600
TZOFFSETTO:-0500
RDATE:20270314T020000
END:DAYLIGHT
END:VTIMEZONE
BEGIN:VEVENT
UID:7c49ac85-442f-4fc5-8ef5-11a2c97a24cc
DTSTAMP:20260420T091431Z
DESCRIPTION:The Kerr County Love Project is led by art therapists who belie
 ve in the power of creativity to heal\, connect\, and celebrate community.
  Together\, we’re building a large mosaic that reflects the joy\, resilien
 ce\, and spirit of Kerr County.
DTSTART;TZID=America/Chicago:20260418T093000
DTEND;TZID=America/Chicago:20260418T120000
LOCATION:150 Francisco Lemos St S\, Kerrville\, TX 78028 US
SUMMARY:The Kerr County Love Project
END:VEVENT
END:VCALENDAR
